BEGIN:VCALENDAR
VERSION:2.0
PRODID:-//North Smethwick Development Trust - ECPv6.15.17.1//NONSGML v1.0//EN
CALSCALE:GREGORIAN
METHOD:PUBLISH
X-WR-CALNAME:North Smethwick Development Trust
X-ORIGINAL-URL:https://nsdt.org.uk
X-WR-CALDESC:Events for North Smethwick Development Trust
REFRESH-INTERVAL;VALUE=DURATION:PT1H
X-Robots-Tag:noindex
X-PUBLISHED-TTL:PT1H
BEGIN:VTIMEZONE
TZID:UTC
BEGIN:STANDARD
TZOFFSETFROM:+0000
TZOFFSETTO:+0000
TZNAME:UTC
DTSTART:20250101T000000
END:STANDARD
END:VTIMEZONE
BEGIN:VEVENT
DTSTART;TZID=UTC:20260323T150000
DTEND;TZID=UTC:20260323T180000
DTSTAMP:20260424T152646
CREATED:20250407T141847Z
LAST-MODIFIED:20260312T133115Z
UID:38638-1774278000-1774288800@nsdt.org.uk
SUMMARY:Go Play - Smethwick Sessions
DESCRIPTION:Join Powered by CAN here at the Brasshouse Community Centre every week for a fun filled play session that is free for the family to attend.  Activities include: \n\nMini sport games\nFamily games\nThemed Arts and Crafts\nTechnology play\n\nand much much more \n 
URL:https://nsdt.org.uk/event/go-play-smethwick-sessions-2-2025-12-29/2026-03-23/
LOCATION:Brasshouse Community Centre
CATEGORIES:Children & Young People
ORGANIZER;CN="Powered By CAN":MAILTO:hello@poweredbycan.org
END:VEVENT
END:VCALENDAR