BEGIN:VCALENDAR
VERSION:2.0
PRODID:-//North Smethwick Development Trust - ECPv6.15.17.1//NONSGML v1.0//EN
CALSCALE:GREGORIAN
METHOD:PUBLISH
X-ORIGINAL-URL:https://nsdt.org.uk
X-WR-CALDESC:Events for North Smethwick Development Trust
REFRESH-INTERVAL;VALUE=DURATION:PT1H
X-Robots-Tag:noindex
X-PUBLISHED-TTL:PT1H
BEGIN:VTIMEZONE
TZID:UTC
BEGIN:STANDARD
TZOFFSETFROM:+0000
TZOFFSETTO:+0000
TZNAME:UTC
DTSTART:20250101T000000
END:STANDARD
END:VTIMEZONE
BEGIN:VEVENT
DTSTART;TZID=UTC:20260310T140000
DTEND;TZID=UTC:20260310T160000
DTSTAMP:20260420T135720
CREATED:20251120T154300Z
LAST-MODIFIED:20251120T154300Z
UID:38000-1773151200-1773158400@nsdt.org.uk
SUMMARY:Digital Champion Training (Free)
DESCRIPTION:Do you have the digital knowledge to support others to learn basic skills? \nAre you patient? \nDo you have an understanding of what it is like to be unsure of technology? \nCould you support individuals in your community? \nThen become a Digital Champion\, learning in a comfortable environment \nWe have a 10 week course (2 hours per week) and you will be fully supported by our trainers. \nYou training will start on the 6th January 2026\, 2.00pm – 4.00pm at the Brasshouse Community Centre. \nIf you would like further information\, or to register as a Digital Champion\, please speak with staff at reception or by calling 0121 555 5672.
URL:https://nsdt.org.uk/event/digital-champion-training-free/2026-03-10/
LOCATION:Brasshouse Community Centre
CATEGORIES:Adults activities,Digital/Computer Skills
ORGANIZER;CN="NSDT - Brasshouse Community Centre (Brasshouse Lane%2C Smethwick%2C West Midlands%2C B66 1BA (Sat Nav Users B66 1BQ))":MAILTO:info@nsdt.org.uk
END:VEVENT
BEGIN:VEVENT
DTSTART;TZID=UTC:20260303T140000
DTEND;TZID=UTC:20260303T160000
DTSTAMP:20260420T135720
CREATED:20251120T154300Z
LAST-MODIFIED:20251120T154300Z
UID:37999-1772546400-1772553600@nsdt.org.uk
SUMMARY:Digital Champion Training (Free)
DESCRIPTION:Do you have the digital knowledge to support others to learn basic skills? \nAre you patient? \nDo you have an understanding of what it is like to be unsure of technology? \nCould you support individuals in your community? \nThen become a Digital Champion\, learning in a comfortable environment \nWe have a 10 week course (2 hours per week) and you will be fully supported by our trainers. \nYou training will start on the 6th January 2026\, 2.00pm – 4.00pm at the Brasshouse Community Centre. \nIf you would like further information\, or to register as a Digital Champion\, please speak with staff at reception or by calling 0121 555 5672.
URL:https://nsdt.org.uk/event/digital-champion-training-free/2026-03-03/
LOCATION:Brasshouse Community Centre
CATEGORIES:Adults activities,Digital/Computer Skills
ORGANIZER;CN="NSDT - Brasshouse Community Centre (Brasshouse Lane%2C Smethwick%2C West Midlands%2C B66 1BA (Sat Nav Users B66 1BQ))":MAILTO:info@nsdt.org.uk
END:VEVENT
BEGIN:VEVENT
DTSTART;TZID=UTC:20260224T140000
DTEND;TZID=UTC:20260224T160000
DTSTAMP:20260420T135720
CREATED:20251120T154300Z
LAST-MODIFIED:20251120T154300Z
UID:37998-1771941600-1771948800@nsdt.org.uk
SUMMARY:Digital Champion Training (Free)
DESCRIPTION:Do you have the digital knowledge to support others to learn basic skills? \nAre you patient? \nDo you have an understanding of what it is like to be unsure of technology? \nCould you support individuals in your community? \nThen become a Digital Champion\, learning in a comfortable environment \nWe have a 10 week course (2 hours per week) and you will be fully supported by our trainers. \nYou training will start on the 6th January 2026\, 2.00pm – 4.00pm at the Brasshouse Community Centre. \nIf you would like further information\, or to register as a Digital Champion\, please speak with staff at reception or by calling 0121 555 5672.
URL:https://nsdt.org.uk/event/digital-champion-training-free/2026-02-24/
LOCATION:Brasshouse Community Centre
CATEGORIES:Adults activities,Digital/Computer Skills
ORGANIZER;CN="NSDT - Brasshouse Community Centre (Brasshouse Lane%2C Smethwick%2C West Midlands%2C B66 1BA (Sat Nav Users B66 1BQ))":MAILTO:info@nsdt.org.uk
END:VEVENT
BEGIN:VEVENT
DTSTART;TZID=UTC:20260217T140000
DTEND;TZID=UTC:20260217T160000
DTSTAMP:20260420T135720
CREATED:20251120T154300Z
LAST-MODIFIED:20251120T154300Z
UID:37997-1771336800-1771344000@nsdt.org.uk
SUMMARY:Digital Champion Training (Free)
DESCRIPTION:Do you have the digital knowledge to support others to learn basic skills? \nAre you patient? \nDo you have an understanding of what it is like to be unsure of technology? \nCould you support individuals in your community? \nThen become a Digital Champion\, learning in a comfortable environment \nWe have a 10 week course (2 hours per week) and you will be fully supported by our trainers. \nYou training will start on the 6th January 2026\, 2.00pm – 4.00pm at the Brasshouse Community Centre. \nIf you would like further information\, or to register as a Digital Champion\, please speak with staff at reception or by calling 0121 555 5672.
URL:https://nsdt.org.uk/event/digital-champion-training-free/2026-02-17/
LOCATION:Brasshouse Community Centre
CATEGORIES:Adults activities,Digital/Computer Skills
ORGANIZER;CN="NSDT - Brasshouse Community Centre (Brasshouse Lane%2C Smethwick%2C West Midlands%2C B66 1BA (Sat Nav Users B66 1BQ))":MAILTO:info@nsdt.org.uk
END:VEVENT
BEGIN:VEVENT
DTSTART;TZID=UTC:20260210T140000
DTEND;TZID=UTC:20260210T160000
DTSTAMP:20260420T135720
CREATED:20251120T154300Z
LAST-MODIFIED:20251120T154300Z
UID:37996-1770732000-1770739200@nsdt.org.uk
SUMMARY:Digital Champion Training (Free)
DESCRIPTION:Do you have the digital knowledge to support others to learn basic skills? \nAre you patient? \nDo you have an understanding of what it is like to be unsure of technology? \nCould you support individuals in your community? \nThen become a Digital Champion\, learning in a comfortable environment \nWe have a 10 week course (2 hours per week) and you will be fully supported by our trainers. \nYou training will start on the 6th January 2026\, 2.00pm – 4.00pm at the Brasshouse Community Centre. \nIf you would like further information\, or to register as a Digital Champion\, please speak with staff at reception or by calling 0121 555 5672.
URL:https://nsdt.org.uk/event/digital-champion-training-free/2026-02-10/
LOCATION:Brasshouse Community Centre
CATEGORIES:Adults activities,Digital/Computer Skills
ORGANIZER;CN="NSDT - Brasshouse Community Centre (Brasshouse Lane%2C Smethwick%2C West Midlands%2C B66 1BA (Sat Nav Users B66 1BQ))":MAILTO:info@nsdt.org.uk
END:VEVENT
BEGIN:VEVENT
DTSTART;TZID=UTC:20260203T140000
DTEND;TZID=UTC:20260203T160000
DTSTAMP:20260420T135720
CREATED:20251120T154300Z
LAST-MODIFIED:20251120T154300Z
UID:37995-1770127200-1770134400@nsdt.org.uk
SUMMARY:Digital Champion Training (Free)
DESCRIPTION:Do you have the digital knowledge to support others to learn basic skills? \nAre you patient? \nDo you have an understanding of what it is like to be unsure of technology? \nCould you support individuals in your community? \nThen become a Digital Champion\, learning in a comfortable environment \nWe have a 10 week course (2 hours per week) and you will be fully supported by our trainers. \nYou training will start on the 6th January 2026\, 2.00pm – 4.00pm at the Brasshouse Community Centre. \nIf you would like further information\, or to register as a Digital Champion\, please speak with staff at reception or by calling 0121 555 5672.
URL:https://nsdt.org.uk/event/digital-champion-training-free/2026-02-03/
LOCATION:Brasshouse Community Centre
CATEGORIES:Adults activities,Digital/Computer Skills
ORGANIZER;CN="NSDT - Brasshouse Community Centre (Brasshouse Lane%2C Smethwick%2C West Midlands%2C B66 1BA (Sat Nav Users B66 1BQ))":MAILTO:info@nsdt.org.uk
END:VEVENT
BEGIN:VEVENT
DTSTART;TZID=UTC:20260127T140000
DTEND;TZID=UTC:20260127T160000
DTSTAMP:20260420T135720
CREATED:20251120T154300Z
LAST-MODIFIED:20251120T154300Z
UID:37994-1769522400-1769529600@nsdt.org.uk
SUMMARY:Digital Champion Training (Free)
DESCRIPTION:Do you have the digital knowledge to support others to learn basic skills? \nAre you patient? \nDo you have an understanding of what it is like to be unsure of technology? \nCould you support individuals in your community? \nThen become a Digital Champion\, learning in a comfortable environment \nWe have a 10 week course (2 hours per week) and you will be fully supported by our trainers. \nYou training will start on the 6th January 2026\, 2.00pm – 4.00pm at the Brasshouse Community Centre. \nIf you would like further information\, or to register as a Digital Champion\, please speak with staff at reception or by calling 0121 555 5672.
URL:https://nsdt.org.uk/event/digital-champion-training-free/2026-01-27/
LOCATION:Brasshouse Community Centre
CATEGORIES:Adults activities,Digital/Computer Skills
ORGANIZER;CN="NSDT - Brasshouse Community Centre (Brasshouse Lane%2C Smethwick%2C West Midlands%2C B66 1BA (Sat Nav Users B66 1BQ))":MAILTO:info@nsdt.org.uk
END:VEVENT
BEGIN:VEVENT
DTSTART;TZID=UTC:20260120T140000
DTEND;TZID=UTC:20260120T160000
DTSTAMP:20260420T135720
CREATED:20251120T154300Z
LAST-MODIFIED:20251120T154300Z
UID:37993-1768917600-1768924800@nsdt.org.uk
SUMMARY:Digital Champion Training (Free)
DESCRIPTION:Do you have the digital knowledge to support others to learn basic skills? \nAre you patient? \nDo you have an understanding of what it is like to be unsure of technology? \nCould you support individuals in your community? \nThen become a Digital Champion\, learning in a comfortable environment \nWe have a 10 week course (2 hours per week) and you will be fully supported by our trainers. \nYou training will start on the 6th January 2026\, 2.00pm – 4.00pm at the Brasshouse Community Centre. \nIf you would like further information\, or to register as a Digital Champion\, please speak with staff at reception or by calling 0121 555 5672.
URL:https://nsdt.org.uk/event/digital-champion-training-free/2026-01-20/
LOCATION:Brasshouse Community Centre
CATEGORIES:Adults activities,Digital/Computer Skills
ORGANIZER;CN="NSDT - Brasshouse Community Centre (Brasshouse Lane%2C Smethwick%2C West Midlands%2C B66 1BA (Sat Nav Users B66 1BQ))":MAILTO:info@nsdt.org.uk
END:VEVENT
BEGIN:VEVENT
DTSTART;TZID=UTC:20260113T140000
DTEND;TZID=UTC:20260113T160000
DTSTAMP:20260420T135720
CREATED:20251120T154300Z
LAST-MODIFIED:20251120T154300Z
UID:37992-1768312800-1768320000@nsdt.org.uk
SUMMARY:Digital Champion Training (Free)
DESCRIPTION:Do you have the digital knowledge to support others to learn basic skills? \nAre you patient? \nDo you have an understanding of what it is like to be unsure of technology? \nCould you support individuals in your community? \nThen become a Digital Champion\, learning in a comfortable environment \nWe have a 10 week course (2 hours per week) and you will be fully supported by our trainers. \nYou training will start on the 6th January 2026\, 2.00pm – 4.00pm at the Brasshouse Community Centre. \nIf you would like further information\, or to register as a Digital Champion\, please speak with staff at reception or by calling 0121 555 5672.
URL:https://nsdt.org.uk/event/digital-champion-training-free/2026-01-13/
LOCATION:Brasshouse Community Centre
CATEGORIES:Adults activities,Digital/Computer Skills
ORGANIZER;CN="NSDT - Brasshouse Community Centre (Brasshouse Lane%2C Smethwick%2C West Midlands%2C B66 1BA (Sat Nav Users B66 1BQ))":MAILTO:info@nsdt.org.uk
END:VEVENT
BEGIN:VEVENT
DTSTART;TZID=UTC:20260106T140000
DTEND;TZID=UTC:20260106T160000
DTSTAMP:20260420T135720
CREATED:20251120T154300Z
LAST-MODIFIED:20251120T154300Z
UID:37991-1767708000-1767715200@nsdt.org.uk
SUMMARY:Digital Champion Training (Free)
DESCRIPTION:Do you have the digital knowledge to support others to learn basic skills? \nAre you patient? \nDo you have an understanding of what it is like to be unsure of technology? \nCould you support individuals in your community? \nThen become a Digital Champion\, learning in a comfortable environment \nWe have a 10 week course (2 hours per week) and you will be fully supported by our trainers. \nYou training will start on the 6th January 2026\, 2.00pm – 4.00pm at the Brasshouse Community Centre. \nIf you would like further information\, or to register as a Digital Champion\, please speak with staff at reception or by calling 0121 555 5672.
URL:https://nsdt.org.uk/event/digital-champion-training-free/2026-01-06/
LOCATION:Brasshouse Community Centre
CATEGORIES:Adults activities,Digital/Computer Skills
ORGANIZER;CN="NSDT - Brasshouse Community Centre (Brasshouse Lane%2C Smethwick%2C West Midlands%2C B66 1BA (Sat Nav Users B66 1BQ))":MAILTO:info@nsdt.org.uk
END:VEVENT
END:VCALENDAR