BEGIN:VCALENDAR
VERSION:2.0
PRODID:-//North Smethwick Development Trust - ECPv6.15.17.1//NONSGML v1.0//EN
CALSCALE:GREGORIAN
METHOD:PUBLISH
X-ORIGINAL-URL:http://nsdt.org.uk
X-WR-CALDESC:Events for North Smethwick Development Trust
REFRESH-INTERVAL;VALUE=DURATION:PT1H
X-Robots-Tag:noindex
X-PUBLISHED-TTL:PT1H
BEGIN:VTIMEZONE
TZID:UTC
BEGIN:STANDARD
TZOFFSETFROM:+0000
TZOFFSETTO:+0000
TZNAME:UTC
DTSTART:20250101T000000
END:STANDARD
END:VTIMEZONE
BEGIN:VEVENT
DTSTART;TZID=UTC:20260720T183000
DTEND;TZID=UTC:20260720T200000
DTSTAMP:20260424T102739
CREATED:20250908T165430Z
LAST-MODIFIED:20250908T165430Z
UID:37431-1784572200-1784577600@nsdt.org.uk
SUMMARY:Sea Venturers
DESCRIPTION:Sea Venturers is an exciting new programme\, designed to bring fun\, confidence-boosting nautical activities to even more young people aged between 9 and 12 years old! \nSea Venturers is a chance for our young people to: \n\nbuild confidence and resilience and life skills\nmake new friends and feel part of the team\nlearn cool new skills\, navigation\, morse code and more
URL:http://nsdt.org.uk/event/sea-venturers/2026-07-20/
LOCATION:Brasshouse Community Centre
ATTACH;FMTTYPE=image/png:http://nsdt.org.uk/wp-content/uploads/2025/09/mssc.png
ORGANIZER;CN="MSSC":MAILTO:seaventurers@ms-sc.org
END:VEVENT
BEGIN:VEVENT
DTSTART;TZID=UTC:20260727T183000
DTEND;TZID=UTC:20260727T200000
DTSTAMP:20260424T102739
CREATED:20250908T165430Z
LAST-MODIFIED:20250908T165430Z
UID:37432-1785177000-1785182400@nsdt.org.uk
SUMMARY:Sea Venturers
DESCRIPTION:Sea Venturers is an exciting new programme\, designed to bring fun\, confidence-boosting nautical activities to even more young people aged between 9 and 12 years old! \nSea Venturers is a chance for our young people to: \n\nbuild confidence and resilience and life skills\nmake new friends and feel part of the team\nlearn cool new skills\, navigation\, morse code and more
URL:http://nsdt.org.uk/event/sea-venturers/2026-07-27/
LOCATION:Brasshouse Community Centre
ATTACH;FMTTYPE=image/png:http://nsdt.org.uk/wp-content/uploads/2025/09/mssc.png
ORGANIZER;CN="MSSC":MAILTO:seaventurers@ms-sc.org
END:VEVENT
BEGIN:VEVENT
DTSTART;TZID=UTC:20260803T183000
DTEND;TZID=UTC:20260803T200000
DTSTAMP:20260424T102739
CREATED:20250908T165430Z
LAST-MODIFIED:20250908T165430Z
UID:37433-1785781800-1785787200@nsdt.org.uk
SUMMARY:Sea Venturers
DESCRIPTION:Sea Venturers is an exciting new programme\, designed to bring fun\, confidence-boosting nautical activities to even more young people aged between 9 and 12 years old! \nSea Venturers is a chance for our young people to: \n\nbuild confidence and resilience and life skills\nmake new friends and feel part of the team\nlearn cool new skills\, navigation\, morse code and more
URL:http://nsdt.org.uk/event/sea-venturers/2026-08-03/
LOCATION:Brasshouse Community Centre
ATTACH;FMTTYPE=image/png:http://nsdt.org.uk/wp-content/uploads/2025/09/mssc.png
ORGANIZER;CN="MSSC":MAILTO:seaventurers@ms-sc.org
END:VEVENT
BEGIN:VEVENT
DTSTART;TZID=UTC:20260810T183000
DTEND;TZID=UTC:20260810T200000
DTSTAMP:20260424T102739
CREATED:20250908T165430Z
LAST-MODIFIED:20250908T165430Z
UID:37434-1786386600-1786392000@nsdt.org.uk
SUMMARY:Sea Venturers
DESCRIPTION:Sea Venturers is an exciting new programme\, designed to bring fun\, confidence-boosting nautical activities to even more young people aged between 9 and 12 years old! \nSea Venturers is a chance for our young people to: \n\nbuild confidence and resilience and life skills\nmake new friends and feel part of the team\nlearn cool new skills\, navigation\, morse code and more
URL:http://nsdt.org.uk/event/sea-venturers/2026-08-10/
LOCATION:Brasshouse Community Centre
ATTACH;FMTTYPE=image/png:http://nsdt.org.uk/wp-content/uploads/2025/09/mssc.png
ORGANIZER;CN="MSSC":MAILTO:seaventurers@ms-sc.org
END:VEVENT
BEGIN:VEVENT
DTSTART;TZID=UTC:20260817T183000
DTEND;TZID=UTC:20260817T200000
DTSTAMP:20260424T102739
CREATED:20250908T165430Z
LAST-MODIFIED:20250908T165430Z
UID:37435-1786991400-1786996800@nsdt.org.uk
SUMMARY:Sea Venturers
DESCRIPTION:Sea Venturers is an exciting new programme\, designed to bring fun\, confidence-boosting nautical activities to even more young people aged between 9 and 12 years old! \nSea Venturers is a chance for our young people to: \n\nbuild confidence and resilience and life skills\nmake new friends and feel part of the team\nlearn cool new skills\, navigation\, morse code and more
URL:http://nsdt.org.uk/event/sea-venturers/2026-08-17/
LOCATION:Brasshouse Community Centre
ATTACH;FMTTYPE=image/png:http://nsdt.org.uk/wp-content/uploads/2025/09/mssc.png
ORGANIZER;CN="MSSC":MAILTO:seaventurers@ms-sc.org
END:VEVENT
BEGIN:VEVENT
DTSTART;TZID=UTC:20260824T183000
DTEND;TZID=UTC:20260824T200000
DTSTAMP:20260424T102739
CREATED:20250908T165430Z
LAST-MODIFIED:20250908T165430Z
UID:37436-1787596200-1787601600@nsdt.org.uk
SUMMARY:Sea Venturers
DESCRIPTION:Sea Venturers is an exciting new programme\, designed to bring fun\, confidence-boosting nautical activities to even more young people aged between 9 and 12 years old! \nSea Venturers is a chance for our young people to: \n\nbuild confidence and resilience and life skills\nmake new friends and feel part of the team\nlearn cool new skills\, navigation\, morse code and more
URL:http://nsdt.org.uk/event/sea-venturers/2026-08-24/
LOCATION:Brasshouse Community Centre
ATTACH;FMTTYPE=image/png:http://nsdt.org.uk/wp-content/uploads/2025/09/mssc.png
ORGANIZER;CN="MSSC":MAILTO:seaventurers@ms-sc.org
END:VEVENT
BEGIN:VEVENT
DTSTART;TZID=UTC:20260831T183000
DTEND;TZID=UTC:20260831T200000
DTSTAMP:20260424T102739
CREATED:20250908T165430Z
LAST-MODIFIED:20250908T165430Z
UID:37437-1788201000-1788206400@nsdt.org.uk
SUMMARY:Sea Venturers
DESCRIPTION:Sea Venturers is an exciting new programme\, designed to bring fun\, confidence-boosting nautical activities to even more young people aged between 9 and 12 years old! \nSea Venturers is a chance for our young people to: \n\nbuild confidence and resilience and life skills\nmake new friends and feel part of the team\nlearn cool new skills\, navigation\, morse code and more
URL:http://nsdt.org.uk/event/sea-venturers/2026-08-31/
LOCATION:Brasshouse Community Centre
ATTACH;FMTTYPE=image/png:http://nsdt.org.uk/wp-content/uploads/2025/09/mssc.png
ORGANIZER;CN="MSSC":MAILTO:seaventurers@ms-sc.org
END:VEVENT
BEGIN:VEVENT
DTSTART;TZID=UTC:20260907T183000
DTEND;TZID=UTC:20260907T200000
DTSTAMP:20260424T102739
CREATED:20250908T165430Z
LAST-MODIFIED:20250908T165430Z
UID:37438-1788805800-1788811200@nsdt.org.uk
SUMMARY:Sea Venturers
DESCRIPTION:Sea Venturers is an exciting new programme\, designed to bring fun\, confidence-boosting nautical activities to even more young people aged between 9 and 12 years old! \nSea Venturers is a chance for our young people to: \n\nbuild confidence and resilience and life skills\nmake new friends and feel part of the team\nlearn cool new skills\, navigation\, morse code and more
URL:http://nsdt.org.uk/event/sea-venturers/2026-09-07/
LOCATION:Brasshouse Community Centre
ATTACH;FMTTYPE=image/png:http://nsdt.org.uk/wp-content/uploads/2025/09/mssc.png
ORGANIZER;CN="MSSC":MAILTO:seaventurers@ms-sc.org
END:VEVENT
BEGIN:VEVENT
DTSTART;TZID=UTC:20260914T183000
DTEND;TZID=UTC:20260914T200000
DTSTAMP:20260424T102739
CREATED:20250908T165430Z
LAST-MODIFIED:20250908T165430Z
UID:37439-1789410600-1789416000@nsdt.org.uk
SUMMARY:Sea Venturers
DESCRIPTION:Sea Venturers is an exciting new programme\, designed to bring fun\, confidence-boosting nautical activities to even more young people aged between 9 and 12 years old! \nSea Venturers is a chance for our young people to: \n\nbuild confidence and resilience and life skills\nmake new friends and feel part of the team\nlearn cool new skills\, navigation\, morse code and more
URL:http://nsdt.org.uk/event/sea-venturers/2026-09-14/
LOCATION:Brasshouse Community Centre
ATTACH;FMTTYPE=image/png:http://nsdt.org.uk/wp-content/uploads/2025/09/mssc.png
ORGANIZER;CN="MSSC":MAILTO:seaventurers@ms-sc.org
END:VEVENT
BEGIN:VEVENT
DTSTART;TZID=UTC:20260921T183000
DTEND;TZID=UTC:20260921T200000
DTSTAMP:20260424T102739
CREATED:20250908T165430Z
LAST-MODIFIED:20250908T165430Z
UID:37440-1790015400-1790020800@nsdt.org.uk
SUMMARY:Sea Venturers
DESCRIPTION:Sea Venturers is an exciting new programme\, designed to bring fun\, confidence-boosting nautical activities to even more young people aged between 9 and 12 years old! \nSea Venturers is a chance for our young people to: \n\nbuild confidence and resilience and life skills\nmake new friends and feel part of the team\nlearn cool new skills\, navigation\, morse code and more
URL:http://nsdt.org.uk/event/sea-venturers/2026-09-21/
LOCATION:Brasshouse Community Centre
ATTACH;FMTTYPE=image/png:http://nsdt.org.uk/wp-content/uploads/2025/09/mssc.png
ORGANIZER;CN="MSSC":MAILTO:seaventurers@ms-sc.org
END:VEVENT
BEGIN:VEVENT
DTSTART;TZID=UTC:20260928T183000
DTEND;TZID=UTC:20260928T200000
DTSTAMP:20260424T102739
CREATED:20250908T165430Z
LAST-MODIFIED:20250908T165430Z
UID:37441-1790620200-1790625600@nsdt.org.uk
SUMMARY:Sea Venturers
DESCRIPTION:Sea Venturers is an exciting new programme\, designed to bring fun\, confidence-boosting nautical activities to even more young people aged between 9 and 12 years old! \nSea Venturers is a chance for our young people to: \n\nbuild confidence and resilience and life skills\nmake new friends and feel part of the team\nlearn cool new skills\, navigation\, morse code and more
URL:http://nsdt.org.uk/event/sea-venturers/2026-09-28/
LOCATION:Brasshouse Community Centre
ATTACH;FMTTYPE=image/png:http://nsdt.org.uk/wp-content/uploads/2025/09/mssc.png
ORGANIZER;CN="MSSC":MAILTO:seaventurers@ms-sc.org
END:VEVENT
BEGIN:VEVENT
DTSTART;TZID=UTC:20261005T183000
DTEND;TZID=UTC:20261005T200000
DTSTAMP:20260424T102739
CREATED:20250908T165430Z
LAST-MODIFIED:20250908T165430Z
UID:37442-1791225000-1791230400@nsdt.org.uk
SUMMARY:Sea Venturers
DESCRIPTION:Sea Venturers is an exciting new programme\, designed to bring fun\, confidence-boosting nautical activities to even more young people aged between 9 and 12 years old! \nSea Venturers is a chance for our young people to: \n\nbuild confidence and resilience and life skills\nmake new friends and feel part of the team\nlearn cool new skills\, navigation\, morse code and more
URL:http://nsdt.org.uk/event/sea-venturers/2026-10-05/
LOCATION:Brasshouse Community Centre
ATTACH;FMTTYPE=image/png:http://nsdt.org.uk/wp-content/uploads/2025/09/mssc.png
ORGANIZER;CN="MSSC":MAILTO:seaventurers@ms-sc.org
END:VEVENT
BEGIN:VEVENT
DTSTART;TZID=UTC:20261012T183000
DTEND;TZID=UTC:20261012T200000
DTSTAMP:20260424T102739
CREATED:20250908T165430Z
LAST-MODIFIED:20250908T165430Z
UID:37443-1791829800-1791835200@nsdt.org.uk
SUMMARY:Sea Venturers
DESCRIPTION:Sea Venturers is an exciting new programme\, designed to bring fun\, confidence-boosting nautical activities to even more young people aged between 9 and 12 years old! \nSea Venturers is a chance for our young people to: \n\nbuild confidence and resilience and life skills\nmake new friends and feel part of the team\nlearn cool new skills\, navigation\, morse code and more
URL:http://nsdt.org.uk/event/sea-venturers/2026-10-12/
LOCATION:Brasshouse Community Centre
ATTACH;FMTTYPE=image/png:http://nsdt.org.uk/wp-content/uploads/2025/09/mssc.png
ORGANIZER;CN="MSSC":MAILTO:seaventurers@ms-sc.org
END:VEVENT
BEGIN:VEVENT
DTSTART;TZID=UTC:20261019T183000
DTEND;TZID=UTC:20261019T200000
DTSTAMP:20260424T102739
CREATED:20250908T165430Z
LAST-MODIFIED:20250908T165430Z
UID:37444-1792434600-1792440000@nsdt.org.uk
SUMMARY:Sea Venturers
DESCRIPTION:Sea Venturers is an exciting new programme\, designed to bring fun\, confidence-boosting nautical activities to even more young people aged between 9 and 12 years old! \nSea Venturers is a chance for our young people to: \n\nbuild confidence and resilience and life skills\nmake new friends and feel part of the team\nlearn cool new skills\, navigation\, morse code and more
URL:http://nsdt.org.uk/event/sea-venturers/2026-10-19/
LOCATION:Brasshouse Community Centre
ATTACH;FMTTYPE=image/png:http://nsdt.org.uk/wp-content/uploads/2025/09/mssc.png
ORGANIZER;CN="MSSC":MAILTO:seaventurers@ms-sc.org
END:VEVENT
BEGIN:VEVENT
DTSTART;TZID=UTC:20261026T183000
DTEND;TZID=UTC:20261026T200000
DTSTAMP:20260424T102739
CREATED:20250908T165430Z
LAST-MODIFIED:20250908T165430Z
UID:37445-1793039400-1793044800@nsdt.org.uk
SUMMARY:Sea Venturers
DESCRIPTION:Sea Venturers is an exciting new programme\, designed to bring fun\, confidence-boosting nautical activities to even more young people aged between 9 and 12 years old! \nSea Venturers is a chance for our young people to: \n\nbuild confidence and resilience and life skills\nmake new friends and feel part of the team\nlearn cool new skills\, navigation\, morse code and more
URL:http://nsdt.org.uk/event/sea-venturers/2026-10-26/
LOCATION:Brasshouse Community Centre
ATTACH;FMTTYPE=image/png:http://nsdt.org.uk/wp-content/uploads/2025/09/mssc.png
ORGANIZER;CN="MSSC":MAILTO:seaventurers@ms-sc.org
END:VEVENT
BEGIN:VEVENT
DTSTART;TZID=UTC:20261102T183000
DTEND;TZID=UTC:20261102T200000
DTSTAMP:20260424T102739
CREATED:20250908T165430Z
LAST-MODIFIED:20250908T165430Z
UID:37446-1793644200-1793649600@nsdt.org.uk
SUMMARY:Sea Venturers
DESCRIPTION:Sea Venturers is an exciting new programme\, designed to bring fun\, confidence-boosting nautical activities to even more young people aged between 9 and 12 years old! \nSea Venturers is a chance for our young people to: \n\nbuild confidence and resilience and life skills\nmake new friends and feel part of the team\nlearn cool new skills\, navigation\, morse code and more
URL:http://nsdt.org.uk/event/sea-venturers/2026-11-02/
LOCATION:Brasshouse Community Centre
ATTACH;FMTTYPE=image/png:http://nsdt.org.uk/wp-content/uploads/2025/09/mssc.png
ORGANIZER;CN="MSSC":MAILTO:seaventurers@ms-sc.org
END:VEVENT
BEGIN:VEVENT
DTSTART;TZID=UTC:20261109T183000
DTEND;TZID=UTC:20261109T200000
DTSTAMP:20260424T102739
CREATED:20250908T165430Z
LAST-MODIFIED:20250908T165430Z
UID:37447-1794249000-1794254400@nsdt.org.uk
SUMMARY:Sea Venturers
DESCRIPTION:Sea Venturers is an exciting new programme\, designed to bring fun\, confidence-boosting nautical activities to even more young people aged between 9 and 12 years old! \nSea Venturers is a chance for our young people to: \n\nbuild confidence and resilience and life skills\nmake new friends and feel part of the team\nlearn cool new skills\, navigation\, morse code and more
URL:http://nsdt.org.uk/event/sea-venturers/2026-11-09/
LOCATION:Brasshouse Community Centre
ATTACH;FMTTYPE=image/png:http://nsdt.org.uk/wp-content/uploads/2025/09/mssc.png
ORGANIZER;CN="MSSC":MAILTO:seaventurers@ms-sc.org
END:VEVENT
BEGIN:VEVENT
DTSTART;TZID=UTC:20261116T183000
DTEND;TZID=UTC:20261116T200000
DTSTAMP:20260424T102739
CREATED:20250908T165430Z
LAST-MODIFIED:20250908T165430Z
UID:37448-1794853800-1794859200@nsdt.org.uk
SUMMARY:Sea Venturers
DESCRIPTION:Sea Venturers is an exciting new programme\, designed to bring fun\, confidence-boosting nautical activities to even more young people aged between 9 and 12 years old! \nSea Venturers is a chance for our young people to: \n\nbuild confidence and resilience and life skills\nmake new friends and feel part of the team\nlearn cool new skills\, navigation\, morse code and more
URL:http://nsdt.org.uk/event/sea-venturers/2026-11-16/
LOCATION:Brasshouse Community Centre
ATTACH;FMTTYPE=image/png:http://nsdt.org.uk/wp-content/uploads/2025/09/mssc.png
ORGANIZER;CN="MSSC":MAILTO:seaventurers@ms-sc.org
END:VEVENT
BEGIN:VEVENT
DTSTART;TZID=UTC:20261123T183000
DTEND;TZID=UTC:20261123T200000
DTSTAMP:20260424T102739
CREATED:20250908T165430Z
LAST-MODIFIED:20250908T165430Z
UID:37449-1795458600-1795464000@nsdt.org.uk
SUMMARY:Sea Venturers
DESCRIPTION:Sea Venturers is an exciting new programme\, designed to bring fun\, confidence-boosting nautical activities to even more young people aged between 9 and 12 years old! \nSea Venturers is a chance for our young people to: \n\nbuild confidence and resilience and life skills\nmake new friends and feel part of the team\nlearn cool new skills\, navigation\, morse code and more
URL:http://nsdt.org.uk/event/sea-venturers/2026-11-23/
LOCATION:Brasshouse Community Centre
ATTACH;FMTTYPE=image/png:http://nsdt.org.uk/wp-content/uploads/2025/09/mssc.png
ORGANIZER;CN="MSSC":MAILTO:seaventurers@ms-sc.org
END:VEVENT
BEGIN:VEVENT
DTSTART;TZID=UTC:20261130T183000
DTEND;TZID=UTC:20261130T200000
DTSTAMP:20260424T102739
CREATED:20250908T165430Z
LAST-MODIFIED:20250908T165430Z
UID:37450-1796063400-1796068800@nsdt.org.uk
SUMMARY:Sea Venturers
DESCRIPTION:Sea Venturers is an exciting new programme\, designed to bring fun\, confidence-boosting nautical activities to even more young people aged between 9 and 12 years old! \nSea Venturers is a chance for our young people to: \n\nbuild confidence and resilience and life skills\nmake new friends and feel part of the team\nlearn cool new skills\, navigation\, morse code and more
URL:http://nsdt.org.uk/event/sea-venturers/2026-11-30/
LOCATION:Brasshouse Community Centre
ATTACH;FMTTYPE=image/png:http://nsdt.org.uk/wp-content/uploads/2025/09/mssc.png
ORGANIZER;CN="MSSC":MAILTO:seaventurers@ms-sc.org
END:VEVENT
BEGIN:VEVENT
DTSTART;TZID=UTC:20261207T183000
DTEND;TZID=UTC:20261207T200000
DTSTAMP:20260424T102739
CREATED:20250908T165430Z
LAST-MODIFIED:20250908T165430Z
UID:37451-1796668200-1796673600@nsdt.org.uk
SUMMARY:Sea Venturers
DESCRIPTION:Sea Venturers is an exciting new programme\, designed to bring fun\, confidence-boosting nautical activities to even more young people aged between 9 and 12 years old! \nSea Venturers is a chance for our young people to: \n\nbuild confidence and resilience and life skills\nmake new friends and feel part of the team\nlearn cool new skills\, navigation\, morse code and more
URL:http://nsdt.org.uk/event/sea-venturers/2026-12-07/
LOCATION:Brasshouse Community Centre
ATTACH;FMTTYPE=image/png:http://nsdt.org.uk/wp-content/uploads/2025/09/mssc.png
ORGANIZER;CN="MSSC":MAILTO:seaventurers@ms-sc.org
END:VEVENT
BEGIN:VEVENT
DTSTART;TZID=UTC:20261214T183000
DTEND;TZID=UTC:20261214T200000
DTSTAMP:20260424T102739
CREATED:20250908T165430Z
LAST-MODIFIED:20250908T165430Z
UID:37452-1797273000-1797278400@nsdt.org.uk
SUMMARY:Sea Venturers
DESCRIPTION:Sea Venturers is an exciting new programme\, designed to bring fun\, confidence-boosting nautical activities to even more young people aged between 9 and 12 years old! \nSea Venturers is a chance for our young people to: \n\nbuild confidence and resilience and life skills\nmake new friends and feel part of the team\nlearn cool new skills\, navigation\, morse code and more
URL:http://nsdt.org.uk/event/sea-venturers/2026-12-14/
LOCATION:Brasshouse Community Centre
ATTACH;FMTTYPE=image/png:http://nsdt.org.uk/wp-content/uploads/2025/09/mssc.png
ORGANIZER;CN="MSSC":MAILTO:seaventurers@ms-sc.org
END:VEVENT
BEGIN:VEVENT
DTSTART;TZID=UTC:20261221T183000
DTEND;TZID=UTC:20261221T200000
DTSTAMP:20260424T102739
CREATED:20250908T165430Z
LAST-MODIFIED:20250908T165430Z
UID:37453-1797877800-1797883200@nsdt.org.uk
SUMMARY:Sea Venturers
DESCRIPTION:Sea Venturers is an exciting new programme\, designed to bring fun\, confidence-boosting nautical activities to even more young people aged between 9 and 12 years old! \nSea Venturers is a chance for our young people to: \n\nbuild confidence and resilience and life skills\nmake new friends and feel part of the team\nlearn cool new skills\, navigation\, morse code and more
URL:http://nsdt.org.uk/event/sea-venturers/2026-12-21/
LOCATION:Brasshouse Community Centre
ATTACH;FMTTYPE=image/png:http://nsdt.org.uk/wp-content/uploads/2025/09/mssc.png
ORGANIZER;CN="MSSC":MAILTO:seaventurers@ms-sc.org
END:VEVENT
BEGIN:VEVENT
DTSTART;TZID=UTC:20261228T183000
DTEND;TZID=UTC:20261228T200000
DTSTAMP:20260424T102739
CREATED:20250908T165430Z
LAST-MODIFIED:20250908T165430Z
UID:37454-1798482600-1798488000@nsdt.org.uk
SUMMARY:Sea Venturers
DESCRIPTION:Sea Venturers is an exciting new programme\, designed to bring fun\, confidence-boosting nautical activities to even more young people aged between 9 and 12 years old! \nSea Venturers is a chance for our young people to: \n\nbuild confidence and resilience and life skills\nmake new friends and feel part of the team\nlearn cool new skills\, navigation\, morse code and more
URL:http://nsdt.org.uk/event/sea-venturers/2026-12-28/
LOCATION:Brasshouse Community Centre
ATTACH;FMTTYPE=image/png:http://nsdt.org.uk/wp-content/uploads/2025/09/mssc.png
ORGANIZER;CN="MSSC":MAILTO:seaventurers@ms-sc.org
END:VEVENT
BEGIN:VEVENT
DTSTART;TZID=UTC:20270104T183000
DTEND;TZID=UTC:20270104T200000
DTSTAMP:20260424T102739
CREATED:20250908T165430Z
LAST-MODIFIED:20250908T165430Z
UID:37455-1799087400-1799092800@nsdt.org.uk
SUMMARY:Sea Venturers
DESCRIPTION:Sea Venturers is an exciting new programme\, designed to bring fun\, confidence-boosting nautical activities to even more young people aged between 9 and 12 years old! \nSea Venturers is a chance for our young people to: \n\nbuild confidence and resilience and life skills\nmake new friends and feel part of the team\nlearn cool new skills\, navigation\, morse code and more
URL:http://nsdt.org.uk/event/sea-venturers/2027-01-04/
LOCATION:Brasshouse Community Centre
ATTACH;FMTTYPE=image/png:http://nsdt.org.uk/wp-content/uploads/2025/09/mssc.png
ORGANIZER;CN="MSSC":MAILTO:seaventurers@ms-sc.org
END:VEVENT
BEGIN:VEVENT
DTSTART;TZID=UTC:20270111T183000
DTEND;TZID=UTC:20270111T200000
DTSTAMP:20260424T102739
CREATED:20250908T165430Z
LAST-MODIFIED:20250908T165430Z
UID:37456-1799692200-1799697600@nsdt.org.uk
SUMMARY:Sea Venturers
DESCRIPTION:Sea Venturers is an exciting new programme\, designed to bring fun\, confidence-boosting nautical activities to even more young people aged between 9 and 12 years old! \nSea Venturers is a chance for our young people to: \n\nbuild confidence and resilience and life skills\nmake new friends and feel part of the team\nlearn cool new skills\, navigation\, morse code and more
URL:http://nsdt.org.uk/event/sea-venturers/2027-01-11/
LOCATION:Brasshouse Community Centre
ATTACH;FMTTYPE=image/png:http://nsdt.org.uk/wp-content/uploads/2025/09/mssc.png
ORGANIZER;CN="MSSC":MAILTO:seaventurers@ms-sc.org
END:VEVENT
BEGIN:VEVENT
DTSTART;TZID=UTC:20270118T183000
DTEND;TZID=UTC:20270118T200000
DTSTAMP:20260424T102739
CREATED:20250908T165430Z
LAST-MODIFIED:20250908T165430Z
UID:37457-1800297000-1800302400@nsdt.org.uk
SUMMARY:Sea Venturers
DESCRIPTION:Sea Venturers is an exciting new programme\, designed to bring fun\, confidence-boosting nautical activities to even more young people aged between 9 and 12 years old! \nSea Venturers is a chance for our young people to: \n\nbuild confidence and resilience and life skills\nmake new friends and feel part of the team\nlearn cool new skills\, navigation\, morse code and more
URL:http://nsdt.org.uk/event/sea-venturers/2027-01-18/
LOCATION:Brasshouse Community Centre
ATTACH;FMTTYPE=image/png:http://nsdt.org.uk/wp-content/uploads/2025/09/mssc.png
ORGANIZER;CN="MSSC":MAILTO:seaventurers@ms-sc.org
END:VEVENT
BEGIN:VEVENT
DTSTART;TZID=UTC:20270125T183000
DTEND;TZID=UTC:20270125T200000
DTSTAMP:20260424T102739
CREATED:20250908T165430Z
LAST-MODIFIED:20250908T165430Z
UID:37458-1800901800-1800907200@nsdt.org.uk
SUMMARY:Sea Venturers
DESCRIPTION:Sea Venturers is an exciting new programme\, designed to bring fun\, confidence-boosting nautical activities to even more young people aged between 9 and 12 years old! \nSea Venturers is a chance for our young people to: \n\nbuild confidence and resilience and life skills\nmake new friends and feel part of the team\nlearn cool new skills\, navigation\, morse code and more
URL:http://nsdt.org.uk/event/sea-venturers/2027-01-25/
LOCATION:Brasshouse Community Centre
ATTACH;FMTTYPE=image/png:http://nsdt.org.uk/wp-content/uploads/2025/09/mssc.png
ORGANIZER;CN="MSSC":MAILTO:seaventurers@ms-sc.org
END:VEVENT
BEGIN:VEVENT
DTSTART;TZID=UTC:20270201T183000
DTEND;TZID=UTC:20270201T200000
DTSTAMP:20260424T102739
CREATED:20250908T165430Z
LAST-MODIFIED:20250908T165430Z
UID:37459-1801506600-1801512000@nsdt.org.uk
SUMMARY:Sea Venturers
DESCRIPTION:Sea Venturers is an exciting new programme\, designed to bring fun\, confidence-boosting nautical activities to even more young people aged between 9 and 12 years old! \nSea Venturers is a chance for our young people to: \n\nbuild confidence and resilience and life skills\nmake new friends and feel part of the team\nlearn cool new skills\, navigation\, morse code and more
URL:http://nsdt.org.uk/event/sea-venturers/2027-02-01/
LOCATION:Brasshouse Community Centre
ATTACH;FMTTYPE=image/png:http://nsdt.org.uk/wp-content/uploads/2025/09/mssc.png
ORGANIZER;CN="MSSC":MAILTO:seaventurers@ms-sc.org
END:VEVENT
BEGIN:VEVENT
DTSTART;TZID=UTC:20270208T183000
DTEND;TZID=UTC:20270208T200000
DTSTAMP:20260424T102739
CREATED:20250908T165430Z
LAST-MODIFIED:20250908T165430Z
UID:37460-1802111400-1802116800@nsdt.org.uk
SUMMARY:Sea Venturers
DESCRIPTION:Sea Venturers is an exciting new programme\, designed to bring fun\, confidence-boosting nautical activities to even more young people aged between 9 and 12 years old! \nSea Venturers is a chance for our young people to: \n\nbuild confidence and resilience and life skills\nmake new friends and feel part of the team\nlearn cool new skills\, navigation\, morse code and more
URL:http://nsdt.org.uk/event/sea-venturers/2027-02-08/
LOCATION:Brasshouse Community Centre
ATTACH;FMTTYPE=image/png:http://nsdt.org.uk/wp-content/uploads/2025/09/mssc.png
ORGANIZER;CN="MSSC":MAILTO:seaventurers@ms-sc.org
END:VEVENT
END:VCALENDAR